BEGIN:VCALENDAR
VERSION:2.0
PRODID:-//Squarespace Inc/Squarespace 6//v6//EN
BEGIN:VEVENT
UID:58b00eb44402435931eadd94@squarespace.com
DTSTAMP:20170301T102726Z
DTSTART:20170318T180000Z
DTEND:20170318T200000Z
SUMMARY:Trans Palette Painting
GEO:-37.91174;144.998227
LOCATION:Bayside Arts and Cultural Centre\, Corner Wilson and Carpenter Str
 eet\, Brighton\, VIC\, 3186\, Australia
END:VEVENT
END:VCALENDAR
